BEGIN:VCALENDAR
VERSION:2.0
PRODID:-//hacksw/handcal//NONSGML v1.0//EN
BEGIN:VEVENT
SUMMARY:Criterium Federal 4eme tour
UID:a041a48f-2d59-4c9d-8ae9-d5101339fedf
DTSTART:20260313T230000Z
DTEND:20260315T230000Z
LOCATION:Localisation   
CATEGORIES:Sportif
STATUS:
URL;VALUE=URI:https://pingpongcluborleat.sportsregions.fr/evenements/2026/03/14/criterium-federal-4eme-tour-2427025
END:VEVENT
END:VCALENDAR
